BEGIN:VCALENDAR
VERSION:2.0
PRODID:-//Nabiralci - ECPv6.15.15//NONSGML v1.0//EN
CALSCALE:GREGORIAN
METHOD:PUBLISH
X-WR-CALNAME:Nabiralci
X-ORIGINAL-URL:https://nabiralci.si
X-WR-CALDESC:Dogodki za Nabiralci
REFRESH-INTERVAL;VALUE=DURATION:PT1H
X-Robots-Tag:noindex
X-PUBLISHED-TTL:PT1H
BEGIN:VTIMEZONE
TZID:Europe/Ljubljana
BEGIN:DAYLIGHT
TZOFFSETFROM:+0100
TZOFFSETTO:+0200
TZNAME:CEST
DTSTART:20230326T010000
END:DAYLIGHT
BEGIN:STANDARD
TZOFFSETFROM:+0200
TZOFFSETTO:+0100
TZNAME:CET
DTSTART:20231029T010000
END:STANDARD
BEGIN:DAYLIGHT
TZOFFSETFROM:+0100
TZOFFSETTO:+0200
TZNAME:CEST
DTSTART:20240331T010000
END:DAYLIGHT
BEGIN:STANDARD
TZOFFSETFROM:+0200
TZOFFSETTO:+0100
TZNAME:CET
DTSTART:20241027T010000
END:STANDARD
BEGIN:DAYLIGHT
TZOFFSETFROM:+0100
TZOFFSETTO:+0200
TZNAME:CEST
DTSTART:20250330T010000
END:DAYLIGHT
BEGIN:STANDARD
TZOFFSETFROM:+0200
TZOFFSETTO:+0100
TZNAME:CET
DTSTART:20251026T010000
END:STANDARD
END:VTIMEZONE
BEGIN:VEVENT
DTSTART;TZID=Europe/Ljubljana:20240421T100000
DTEND;TZID=Europe/Ljubljana:20240421T160000
DTSTAMP:20260423T080615
CREATED:20240419T092329Z
LAST-MODIFIED:20240419T100607Z
UID:2777-1713693600-1713715200@nabiralci.si
SUMMARY:Nabiralniško-kulinarična delavnica
DESCRIPTION:Vita Matjac – Floravita; \nZeliščni center Grgarske Ravne;
URL:https://nabiralci.si/dogodek/nabiralnisko-kulinaricna-delavnica/
LOCATION:Zeliščni center Grgarske Ravne\, Grgarske ravne 30\, Grgar\, 5251\, Slovenija
END:VEVENT
BEGIN:VEVENT
DTSTART;TZID=Europe/Ljubljana:20240420T100000
DTEND;TZID=Europe/Ljubljana:20240420T150000
DTSTAMP:20260423T080615
CREATED:20240419T090527Z
LAST-MODIFIED:20240419T093223Z
UID:2768-1713607200-1713625200@nabiralci.si
SUMMARY:Delavnica divje hrane
DESCRIPTION:Samo Kreft in Nataša Sivec – Sodobna fitoterapija; \nIvanji Grad\, Komen
URL:https://nabiralci.si/dogodek/delavnica-divje-hrane/
LOCATION:Ivanji Grad\, Ivanji Grad\, Komen\, 6233\, Slovenija
END:VEVENT
END:VCALENDAR