BEGIN:VCALENDAR
VERSION:2.0
PRODID:-//Nabiralci - ECPv6.15.15//NONSGML v1.0//EN
CALSCALE:GREGORIAN
METHOD:PUBLISH
X-WR-CALNAME:Nabiralci
X-ORIGINAL-URL:https://nabiralci.si
X-WR-CALDESC:Dogodki za Nabiralci
REFRESH-INTERVAL;VALUE=DURATION:PT1H
X-Robots-Tag:noindex
X-PUBLISHED-TTL:PT1H
BEGIN:VTIMEZONE
TZID:Europe/Ljubljana
BEGIN:DAYLIGHT
TZOFFSETFROM:+0100
TZOFFSETTO:+0200
TZNAME:CEST
DTSTART:20230326T010000
END:DAYLIGHT
BEGIN:STANDARD
TZOFFSETFROM:+0200
TZOFFSETTO:+0100
TZNAME:CET
DTSTART:20231029T010000
END:STANDARD
BEGIN:DAYLIGHT
TZOFFSETFROM:+0100
TZOFFSETTO:+0200
TZNAME:CEST
DTSTART:20240331T010000
END:DAYLIGHT
BEGIN:STANDARD
TZOFFSETFROM:+0200
TZOFFSETTO:+0100
TZNAME:CET
DTSTART:20241027T010000
END:STANDARD
BEGIN:DAYLIGHT
TZOFFSETFROM:+0100
TZOFFSETTO:+0200
TZNAME:CEST
DTSTART:20250330T010000
END:DAYLIGHT
BEGIN:STANDARD
TZOFFSETFROM:+0200
TZOFFSETTO:+0100
TZNAME:CET
DTSTART:20251026T010000
END:STANDARD
END:VTIMEZONE
BEGIN:VEVENT
DTSTART;TZID=Europe/Ljubljana:20240511T100000
DTEND;TZID=Europe/Ljubljana:20240511T140000
DTSTAMP:20260423T042413
CREATED:20240506T092551Z
LAST-MODIFIED:20240506T092618Z
UID:2892-1715421600-1715436000@nabiralci.si
SUMMARY:Nabiralniško kulinarični potep po Dragonji
DESCRIPTION:Uroš Švigelj (Domača.si) \nVabljeni na spoznavanje in nabiranje užitnih pomladnih rastlin\, ki nam jih ponuja raznolika dolina Dragonje. Nazdravili bomo z divjim fermentom in ugriznili v zeleni zavitek\, nato pa se odpravili spoznavati in nabriat užitne rastline iz katerih bomo skuhali kosilo.\nOdkrivali bomo rastline\, za: pripravo pomladanskih solat\, namazov\, prilog in začinjanje jedi\, izdelavo zeliščnih pripravkov in mazil\, pripravo čajev in domačih likerjev.\nZaradi ohladitve konec aprila\, ne bo manjkalo užitnih rastlin\, ki jih boste zlahka našli in prepoznali tudi v vašem domačem okolju vse do sredine junija.
URL:https://nabiralci.si/dogodek/nabiralnisko-kulinaricni-potep-po-dragonji/
LOCATION:Dragonja
END:VEVENT
BEGIN:VEVENT
DTSTART;TZID=Europe/Ljubljana:20240511T093000
DTEND;TZID=Europe/Ljubljana:20240511T130000
DTSTAMP:20260423T042413
CREATED:20240423T145853Z
LAST-MODIFIED:20240423T150306Z
UID:2875-1715419800-1715432400@nabiralci.si
SUMMARY:Voden ogled zeliščne kmetije s pokušino divjih jedi
DESCRIPTION:Zeliščna kmetija Hanuman odkriva svoj zeliščni svet! \nVabljeni na edinstven ogled\, kjer boste odkrivali skrivnosti zelišč in v živo spoznali pestro paleto zdravilnih rastlin. Zeliščna kmetija Hanuman že 15 let izdeluje različne zeliščne izdelke in vas vabi\, da se prepustite vodeni turi po njihovih nasadih. Izkušena Monika in Tomaž vam bosta razkrila vse njune izkušnje o vzgoji zelišč in njihovi uporabi. Na ogledu boste spoznali tudi široko paleto samoniklih zdravilnih rastlin\, ki rastejo v tem neokrnjenem delu narave. Po raziskovanju pa vas čaka prijetno druženje ob (veganski) divji zeliščni hrani\, kjer boste lahko okušali njihove edinstvene okuse.
URL:https://nabiralci.si/dogodek/voden-ogled-zeliscne-kmetije-hanuman-s-pokusino-divjih-jedi/
LOCATION:Zeliščna kmetija Hanuman\, Konjščica - del 20\, Polšnik\, 1272
ORGANIZER;CN="Zeli%C5%A1%C4%8Dna kmetija Hanuman":MAILTO:zelisca.hanuman@gmail.com
END:VEVENT
BEGIN:VEVENT
DTSTART;TZID=Europe/Ljubljana:20240511T090000
DTEND;TZID=Europe/Ljubljana:20240512T180000
DTSTAMP:20260423T042413
CREATED:20240419T094901Z
LAST-MODIFIED:20240423T150401Z
UID:2791-1715418000-1715536800@nabiralci.si
SUMMARY:Veliki zeliščarski/nabiralniški tečaj
DESCRIPTION:Karmen Gajšek – Kje so tiste rožice\, \n2-dnevni tečaj (vsak dan od 9.00-18.00; možnost ureditve prenočišča) \nOsrednja Slovenija
URL:https://nabiralci.si/dogodek/veliki-zeliscarski-nabiralniski-tecaj/
LOCATION:Osrednja Slovenija\, Slovenija
ORGANIZER;CN="Karmen Gaj%C5%A1ek%2C Kje so tiste ro%C5%BEice?":MAILTO:tisterozice@gmail.com
END:VEVENT
BEGIN:VEVENT
DTSTART;TZID=Europe/Ljubljana:20240421T100000
DTEND;TZID=Europe/Ljubljana:20240421T160000
DTSTAMP:20260423T042413
CREATED:20240419T092329Z
LAST-MODIFIED:20240419T100607Z
UID:2777-1713693600-1713715200@nabiralci.si
SUMMARY:Nabiralniško-kulinarična delavnica
DESCRIPTION:Vita Matjac – Floravita; \nZeliščni center Grgarske Ravne;
URL:https://nabiralci.si/dogodek/nabiralnisko-kulinaricna-delavnica/
LOCATION:Zeliščni center Grgarske Ravne\, Grgarske ravne 30\, Grgar\, 5251\, Slovenija
END:VEVENT
BEGIN:VEVENT
DTSTART;TZID=Europe/Ljubljana:20240420T100000
DTEND;TZID=Europe/Ljubljana:20240420T150000
DTSTAMP:20260423T042413
CREATED:20240419T090527Z
LAST-MODIFIED:20240419T093223Z
UID:2768-1713607200-1713625200@nabiralci.si
SUMMARY:Delavnica divje hrane
DESCRIPTION:Samo Kreft in Nataša Sivec – Sodobna fitoterapija; \nIvanji Grad\, Komen
URL:https://nabiralci.si/dogodek/delavnica-divje-hrane/
LOCATION:Ivanji Grad\, Ivanji Grad\, Komen\, 6233\, Slovenija
END:VEVENT
END:VCALENDAR