BEGIN:VCALENDAR
VERSION:2.0
PRODID:-//Nabiralci - ECPv6.15.15//NONSGML v1.0//EN
CALSCALE:GREGORIAN
METHOD:PUBLISH
X-ORIGINAL-URL:https://nabiralci.si
X-WR-CALDESC:Dogodki za Nabiralci
REFRESH-INTERVAL;VALUE=DURATION:PT1H
X-Robots-Tag:noindex
X-PUBLISHED-TTL:PT1H
BEGIN:VTIMEZONE
TZID:Europe/Helsinki
BEGIN:DAYLIGHT
TZOFFSETFROM:+0200
TZOFFSETTO:+0300
TZNAME:EEST
DTSTART:20250330T010000
END:DAYLIGHT
BEGIN:STANDARD
TZOFFSETFROM:+0300
TZOFFSETTO:+0200
TZNAME:EET
DTSTART:20251026T010000
END:STANDARD
BEGIN:DAYLIGHT
TZOFFSETFROM:+0200
TZOFFSETTO:+0300
TZNAME:EEST
DTSTART:20260329T010000
END:DAYLIGHT
BEGIN:STANDARD
TZOFFSETFROM:+0300
TZOFFSETTO:+0200
TZNAME:EET
DTSTART:20261025T010000
END:STANDARD
BEGIN:DAYLIGHT
TZOFFSETFROM:+0200
TZOFFSETTO:+0300
TZNAME:EEST
DTSTART:20270328T010000
END:DAYLIGHT
BEGIN:STANDARD
TZOFFSETFROM:+0300
TZOFFSETTO:+0200
TZNAME:EET
DTSTART:20271031T010000
END:STANDARD
END:VTIMEZONE
BEGIN:VEVENT
DTSTART;TZID=Europe/Helsinki:20260510T090000
DTEND;TZID=Europe/Helsinki:20260510T120000
DTSTAMP:20260421T154645
CREATED:20260130T134446Z
LAST-MODIFIED:20260130T134446Z
UID:3736-1778403600-1778414400@nabiralci.si
SUMMARY:Sprehod z zeliščarjem - Lovro Vehovar
DESCRIPTION:Na sprehodih z zeliščarjem Lovrom Vehovarjem odkrivamo na Goričkem rastoče zdravilne\, užitne in uporabne rastline. Naučimo se jih prepoznavati\, ogledamo si na kakšnih rastiščih in kdaj jih najdemo\, se poučimo kako jih sušimo\, shranjujemo in uporabljamo.Sprehod traja 2-3 ure. Pot nas vodi po nezahtevnih gozdnih in travniških poteh. Malica v nahrbtniku je po želji\, ob poti pa vedno. \n– Čas in datum: Vsako drugo nedeljo v mesecu (od marca do oktobra) ob 9.00
URL:https://nabiralci.si/dogodek/sprehod-z-zeliscarjem-lovro-vehovar-5/
LOCATION:Trg pred Vulkanijo\, Grad 174\, Grad\, 9264\, Slovenia
END:VEVENT
BEGIN:VEVENT
DTSTART;TZID=Europe/Helsinki:20260517T100000
DTEND;TZID=Europe/Helsinki:20260517T100000
DTSTAMP:20260421T154645
CREATED:20260414T081816Z
LAST-MODIFIED:20260414T082315Z
UID:4009-1779012000-1779012000@nabiralci.si
SUMMARY:Voden ogled Zeliščne kmetije Hanuman
DESCRIPTION:Vabljeni na voden ogled Zeliščne kmetije Hanuman v nedeljo\, 17. 5. ob 10:00. \nVabljeni\, da skupaj z nami spoznate zeliščno kmetijo\, si ogledate nasade ter izveste več o gojenju in uporabi zelišč. Ogled vključuje tudi divjo zeliščno pokušino. \nObvezne prijave na: info@zelisca-hanuman.si \nLokacija Konjšica 20\, 1272 Polšnik (občina Litija)\ncena 30 eur/osebo\, popust ob prijavi treh ali več oseb hkrati 25 eur/ osebi
URL:https://nabiralci.si/dogodek/voden-ogled-zeliscne-kmetije-hanuman/
LOCATION:Zeliščarska kmetija Hanuman\, Konjšica 29\, Polšnik\, 1271\, Slovenia
ORGANIZER;CN="Zeli%C5%A1%C4%8Darska kmetija Hanuman":MAILTO: info@zelisca-hanuman.si
END:VEVENT
BEGIN:VEVENT
DTSTART;TZID=Europe/Helsinki:20260530T160000
DTEND;TZID=Europe/Helsinki:20260530T160000
DTSTAMP:20260421T154645
CREATED:20260414T082125Z
LAST-MODIFIED:20260414T082125Z
UID:4013-1780156800-1780156800@nabiralci.si
SUMMARY:Voden ogled Zeliščne kmetije Hanuman
DESCRIPTION:Vabljeni na voden ogled Zeliščne kmetije Hanuman v soboto\, 30. 5. ob 16:00. \nVabljeni\, da skupaj z nami spoznate zeliščno kmetijo\, si ogledate nasade ter izveste več o gojenju in uporabi zelišč. Ogled vključuje tudi divjo zeliščno pokušino. \nObvezne prijave na: info@zelisca-hanuman.si \nLokacija Konjšica 20\, 1272 Polšnik (občina Litija)\ncena 30 eur/osebo\, popust ob prijavi treh ali več oseb hkrati 25 eur/ osebi
URL:https://nabiralci.si/dogodek/voden-ogled-zeliscne-kmetije-hanuman-2/
LOCATION:Zeliščarska kmetija Hanuman\, Konjšica 29\, Polšnik\, 1271\, Slovenia
ORGANIZER;CN="Zeli%C5%A1%C4%8Darska kmetija Hanuman":MAILTO: info@zelisca-hanuman.si
END:VEVENT
BEGIN:VEVENT
DTSTART;TZID=Europe/Helsinki:20260604T163000
DTEND;TZID=Europe/Helsinki:20260604T163000
DTSTAMP:20260421T154645
CREATED:20260414T082247Z
LAST-MODIFIED:20260414T082252Z
UID:4015-1780590600-1780590600@nabiralci.si
SUMMARY:Voden ogled Zeliščne kmetije Hanuman
DESCRIPTION:Vabljeni na voden ogled Zeliščne kmetije Hanuman v četrtek\, 4. 6. ob 16:30. v okviru Festivala nabiralništva \nVabljeni\, da skupaj z nami spoznate zeliščno kmetijo\, si ogledate nasade ter izveste več o gojenju in uporabi zelišč. Ogled vključuje tudi divjo zeliščno pokušino. \nObvezne prijave na: https://festivalnabiralnistva.si/izdelek/delavnice/ \n\nLokacija Konjšica 20\, 1272 Polšnik (občina Litija)\ncena 30 eur/osebo
URL:https://nabiralci.si/dogodek/voden-ogled-zeliscne-kmetije-hanuman-3/
LOCATION:Zeliščarska kmetija Hanuman\, Konjšica 29\, Polšnik\, 1271\, Slovenia
ORGANIZER;CN="Zeli%C5%A1%C4%8Darska kmetija Hanuman":MAILTO: info@zelisca-hanuman.si
END:VEVENT
BEGIN:VEVENT
DTSTART;TZID=Europe/Helsinki:20260606T090000
DTEND;TZID=Europe/Helsinki:20260606T130000
DTSTAMP:20260421T154645
CREATED:20251215T112132Z
LAST-MODIFIED:20251215T190524Z
UID:3572-1780736400-1780750800@nabiralci.si
SUMMARY:FESTIVAL NABIRALNIŠTVA
DESCRIPTION:Nabiralniške delavnice s priznanimi slovenskimi strokovnjaki nabiralništva in zeliščarstva po vsej Sloveniji.
URL:https://nabiralci.si/dogodek/festival-nabiralnistva-3/
LOCATION:Slovenija\, Slovenia
END:VEVENT
BEGIN:VEVENT
DTSTART;TZID=Europe/Helsinki:20260614T090000
DTEND;TZID=Europe/Helsinki:20260614T120000
DTSTAMP:20260421T154645
CREATED:20260130T134122Z
LAST-MODIFIED:20260130T134330Z
UID:3732-1781427600-1781438400@nabiralci.si
SUMMARY:Sprehod z zeliščarjem - Lovro Vehovar
DESCRIPTION:Na sprehodih z zeliščarjem Lovrom Vehovarjem odkrivamo na Goričkem rastoče zdravilne\, užitne in uporabne rastline. Naučimo se jih prepoznavati\, ogledamo si na kakšnih rastiščih in kdaj jih najdemo\, se poučimo kako jih sušimo\, shranjujemo in uporabljamo.Sprehod traja 2-3 ure. Pot nas vodi po nezahtevnih gozdnih in travniških poteh. Malica v nahrbtniku je po želji\, ob poti pa vedno. \n– Čas in datum: Vsako drugo nedeljo v mesecu (od marca do oktobra) ob 9.00
URL:https://nabiralci.si/dogodek/sprehod-z-zeliscarjem-lovro-vehovar-3/
LOCATION:Trg pred Vulkanijo\, Grad 174\, Grad\, 9264\, Slovenia
END:VEVENT
BEGIN:VEVENT
DTSTART;TZID=Europe/Helsinki:20260712T090000
DTEND;TZID=Europe/Helsinki:20260712T120000
DTSTAMP:20260421T154645
CREATED:20260130T134354Z
LAST-MODIFIED:20260130T134354Z
UID:3734-1783846800-1783857600@nabiralci.si
SUMMARY:Sprehod z zeliščarjem - Lovro Vehovar
DESCRIPTION:Na sprehodih z zeliščarjem Lovrom Vehovarjem odkrivamo na Goričkem rastoče zdravilne\, užitne in uporabne rastline. Naučimo se jih prepoznavati\, ogledamo si na kakšnih rastiščih in kdaj jih najdemo\, se poučimo kako jih sušimo\, shranjujemo in uporabljamo.Sprehod traja 2-3 ure. Pot nas vodi po nezahtevnih gozdnih in travniških poteh. Malica v nahrbtniku je po želji\, ob poti pa vedno. \n– Čas in datum: Vsako drugo nedeljo v mesecu (od marca do oktobra) ob 9.00
URL:https://nabiralci.si/dogodek/sprehod-z-zeliscarjem-lovro-vehovar-4/
LOCATION:Trg pred Vulkanijo\, Grad 174\, Grad\, 9264\, Slovenia
END:VEVENT
BEGIN:VEVENT
DTSTART;TZID=Europe/Helsinki:20260809T090000
DTEND;TZID=Europe/Helsinki:20260809T120000
DTSTAMP:20260421T154645
CREATED:20260130T142051Z
LAST-MODIFIED:20260130T142051Z
UID:3738-1786266000-1786276800@nabiralci.si
SUMMARY:Sprehod z zeliščarjem - Lovro Vehovar
DESCRIPTION:Na sprehodih z zeliščarjem Lovrom Vehovarjem odkrivamo na Goričkem rastoče zdravilne\, užitne in uporabne rastline. Naučimo se jih prepoznavati\, ogledamo si na kakšnih rastiščih in kdaj jih najdemo\, se poučimo kako jih sušimo\, shranjujemo in uporabljamo.Sprehod traja 2-3 ure. Pot nas vodi po nezahtevnih gozdnih in travniških poteh. Malica v nahrbtniku je po želji\, ob poti pa vedno. \n– Čas in datum: Vsako drugo nedeljo v mesecu (od marca do oktobra) ob 9.00
URL:https://nabiralci.si/dogodek/sprehod-z-zeliscarjem-lovro-vehovar-6/
LOCATION:Trg pred Vulkanijo\, Grad 174\, Grad\, 9264\, Slovenia
END:VEVENT
BEGIN:VEVENT
DTSTART;VALUE=DATE:20260905
DTEND;VALUE=DATE:20260907
DTSTAMP:20260421T154645
CREATED:20251219T084344Z
LAST-MODIFIED:20251219T084344Z
UID:3611-1788566400-1788739199@nabiralci.si
SUMMARY:5. SLOVENSKI FESTIVAL DIVJE HRANE – FesDivjal 2026
DESCRIPTION:FesDivjal je osrednji slovenski in mednarodni festival divje hrane\, ki povezuje naravovarstvo\, znanost\, naravno in kulturno dediščino ter trajnostni razvoj. Obiskovalcem ponuja obsežen program strokovnih delavnic in predavanj s področij nabiralništva\, zeliščarstva\, gobarstva\, fermentacije\, sonaravnega pridelovanja hrane\, trajnostnega gradbeništva in drugih ekoloških praks\, dopolnjen z ustvarjalnim otroškim programom.\n\nPoseben programski vrhunec predstavlja Divji MasterChef – drugo slovensko tekmovanje v trajnostni kulinariki\, v katerem se srečajo kuharji iz televizijske oddaje MasterChef Slovenija in uveljavljeni slovenski nabiralci. Skupaj ustvarjajo izvirne krožnike iz lokalnih\, rastlinskih\, netrgovinskih in ekoloških surovin\, ki temeljijo na samoniklih rastlinah in gobah ter predstavljajo sodobno vizijo divje\, odgovorne gastronomije.\n\nFestival vključuje sonaravni sejem\, izmenjevalnice semen\, pridelkov in oblačil ter raznolik kulturni program. Festivalska kuhinja in točilnica temeljita izključno na doma pridelani in divje nabrani hrani ter pijači\, ki izstopata po visoki hranilni vrednosti ter bogatih\, pogosto pozabljenih okusih. Vsa ponudba je lokalna\, rastlinska in netrgovinska\, brez industrijskih ali trgovinskih izdelkov\, pripravljena na prizorišču v duhu divje kulinarike in spoštovanja naravnih ciklov.\n\nDogodek omogoča brezplačno kampiranje\, privablja več tisoč obiskovalcev iz Slovenije in tujine ter pomembno prispeva k trajnostnemu razvoju lokalnih skupnosti. FesDivjal je prostor povezovanja tradicionalnega znanja in sodobnih znanstvenih spoznanj ter navdih za zdravo\, sonaravno in okolju prijazno prihodnost.
URL:https://nabiralci.si/dogodek/5-slovenski-festival-divje-hrane-fesdivjal-2026/
LOCATION:Sadovnjak Kozjanskega parka (Gradišče 22\, Podsreda)\, Slovenia
END:VEVENT
BEGIN:VEVENT
DTSTART;TZID=Europe/Helsinki:20260913T090000
DTEND;TZID=Europe/Helsinki:20260913T120000
DTSTAMP:20260421T154645
CREATED:20260130T142121Z
LAST-MODIFIED:20260130T142154Z
UID:3740-1789290000-1789300800@nabiralci.si
SUMMARY:Sprehod z zeliščarjem - Lovro Vehovar
DESCRIPTION:Na sprehodih z zeliščarjem Lovrom Vehovarjem odkrivamo na Goričkem rastoče zdravilne\, užitne in uporabne rastline. Naučimo se jih prepoznavati\, ogledamo si na kakšnih rastiščih in kdaj jih najdemo\, se poučimo kako jih sušimo\, shranjujemo in uporabljamo.Sprehod traja 2-3 ure. Pot nas vodi po nezahtevnih gozdnih in travniških poteh. Malica v nahrbtniku je po želji\, ob poti pa vedno. \n– Čas in datum: Vsako drugo nedeljo v mesecu (od marca do oktobra) ob 9.00
URL:https://nabiralci.si/dogodek/sprehod-z-zeliscarjem-lovro-vehovar-7/
LOCATION:Trg pred Vulkanijo\, Grad 174\, Grad\, 9264\, Slovenia
END:VEVENT
BEGIN:VEVENT
DTSTART;TZID=Europe/Helsinki:20261011T090000
DTEND;TZID=Europe/Helsinki:20261011T120000
DTSTAMP:20260421T154645
CREATED:20260130T142217Z
LAST-MODIFIED:20260130T142217Z
UID:3742-1791709200-1791720000@nabiralci.si
SUMMARY:Sprehod z zeliščarjem - Lovro Vehovar
DESCRIPTION:Na sprehodih z zeliščarjem Lovrom Vehovarjem odkrivamo na Goričkem rastoče zdravilne\, užitne in uporabne rastline. Naučimo se jih prepoznavati\, ogledamo si na kakšnih rastiščih in kdaj jih najdemo\, se poučimo kako jih sušimo\, shranjujemo in uporabljamo.Sprehod traja 2-3 ure. Pot nas vodi po nezahtevnih gozdnih in travniških poteh. Malica v nahrbtniku je po želji\, ob poti pa vedno. \n– Čas in datum: Vsako drugo nedeljo v mesecu (od marca do oktobra) ob 9.00
URL:https://nabiralci.si/dogodek/sprehod-z-zeliscarjem-lovro-vehovar-8/
LOCATION:Trg pred Vulkanijo\, Grad 174\, Grad\, 9264\, Slovenia
END:VEVENT
END:VCALENDAR