BEGIN:VCALENDAR
VERSION:2.0
PRODID:-//Nabiralci - ECPv6.15.15//NONSGML v1.0//EN
CALSCALE:GREGORIAN
METHOD:PUBLISH
X-WR-CALNAME:Nabiralci
X-ORIGINAL-URL:https://nabiralci.si
X-WR-CALDESC:Dogodki za Nabiralci
REFRESH-INTERVAL;VALUE=DURATION:PT1H
X-Robots-Tag:noindex
X-PUBLISHED-TTL:PT1H
BEGIN:VTIMEZONE
TZID:Europe/Helsinki
BEGIN:DAYLIGHT
TZOFFSETFROM:+0200
TZOFFSETTO:+0300
TZNAME:EEST
DTSTART:20250330T010000
END:DAYLIGHT
BEGIN:STANDARD
TZOFFSETFROM:+0300
TZOFFSETTO:+0200
TZNAME:EET
DTSTART:20251026T010000
END:STANDARD
BEGIN:DAYLIGHT
TZOFFSETFROM:+0200
TZOFFSETTO:+0300
TZNAME:EEST
DTSTART:20260329T010000
END:DAYLIGHT
BEGIN:STANDARD
TZOFFSETFROM:+0300
TZOFFSETTO:+0200
TZNAME:EET
DTSTART:20261025T010000
END:STANDARD
BEGIN:DAYLIGHT
TZOFFSETFROM:+0200
TZOFFSETTO:+0300
TZNAME:EEST
DTSTART:20270328T010000
END:DAYLIGHT
BEGIN:STANDARD
TZOFFSETFROM:+0300
TZOFFSETTO:+0200
TZNAME:EET
DTSTART:20271031T010000
END:STANDARD
END:VTIMEZONE
BEGIN:VTIMEZONE
TZID:Europe/Paris
BEGIN:DAYLIGHT
TZOFFSETFROM:+0100
TZOFFSETTO:+0200
TZNAME:CEST
DTSTART:20250330T010000
END:DAYLIGHT
BEGIN:STANDARD
TZOFFSETFROM:+0200
TZOFFSETTO:+0100
TZNAME:CET
DTSTART:20251026T010000
END:STANDARD
BEGIN:DAYLIGHT
TZOFFSETFROM:+0100
TZOFFSETTO:+0200
TZNAME:CEST
DTSTART:20260329T010000
END:DAYLIGHT
BEGIN:STANDARD
TZOFFSETFROM:+0200
TZOFFSETTO:+0100
TZNAME:CET
DTSTART:20261025T010000
END:STANDARD
BEGIN:DAYLIGHT
TZOFFSETFROM:+0100
TZOFFSETTO:+0200
TZNAME:CEST
DTSTART:20270328T010000
END:DAYLIGHT
BEGIN:STANDARD
TZOFFSETFROM:+0200
TZOFFSETTO:+0100
TZNAME:CET
DTSTART:20271031T010000
END:STANDARD
END:VTIMEZONE
BEGIN:VEVENT
DTSTART;TZID=Europe/Helsinki:20260301T133000
DTEND;TZID=Europe/Helsinki:20260301T183000
DTSTAMP:20260421T235450
CREATED:20260221T170905Z
LAST-MODIFIED:20260221T170905Z
UID:3980-1772371800-1772389800@nabiralci.si
SUMMARY:Delavnica Zeliščni koktajli - Nataša Sivec
DESCRIPTION:5 urna doživetvena delavnica\, kjer bomo na kratkem zeliščarskem sprehodu spoznali divje rastoča zelišča. Iz sezonskih sestavin in shrankov pa bomo pripravili zeliščne koktajle (lahko tudi vse brezalkoholne). Čaka vas praktično ustvarjanje\, tiskani recepti ter sproščeno druženje ob rastlinskih prigrizkih. Delavnico lahko podarite tudi v obliki darilnega bona.
URL:https://nabiralci.si/dogodek/delavnica-zeliscni-koktajli-natasa-sivec/
LOCATION:Dolenje Ležeče\, Dolenje Ležeče 2a\, Divača\, 6215\, Slovenija
END:VEVENT
BEGIN:VEVENT
DTSTART;TZID=Europe/Paris:20260308T090000
DTEND;TZID=Europe/Paris:20260308T120000
DTSTAMP:20260421T235450
CREATED:20260130T133630Z
LAST-MODIFIED:20260130T133830Z
UID:3724-1772960400-1772971200@nabiralci.si
SUMMARY:Sprehod z zeliščarjem - Lovro Vehovar
DESCRIPTION:Na sprehodih z zeliščarjem Lovrom Vehovarjem odkrivamo na Goričkem rastoče zdravilne\, užitne in uporabne rastline. Naučimo se jih prepoznavati\, ogledamo si na kakšnih rastiščih in kdaj jih najdemo\, se poučimo kako jih sušimo\, shranjujemo in uporabljamo.Sprehod traja 2-3 ure. Pot nas vodi po nezahtevnih gozdnih in travniških poteh. Malica v nahrbtniku je po želji\, ob poti pa vedno. \n– Čas in datum: Vsako drugo nedeljo v mesecu (od marca do oktobra) ob 9.00
URL:https://nabiralci.si/dogodek/sprehod-z-zeliscarjem-lovro-vehovar/
LOCATION:Trg pred Vulkanijo\, Grad 174\, Grad\, 9264\, Slovenia
END:VEVENT
BEGIN:VEVENT
DTSTART;TZID=Europe/Helsinki:20260310T110000
DTEND;TZID=Europe/Helsinki:20260310T123000
DTSTAMP:20260421T235450
CREATED:20260221T171508Z
LAST-MODIFIED:20260221T171508Z
UID:3988-1773140400-1773145800@nabiralci.si
SUMMARY:Užitne in zdravilne rastline izpred domačega praga - brezplačno spletno predavanje z dr. Tino Mele
DESCRIPTION:Na brezplačnem predavanju se bomo “sprehodili” čez 50 užitnih in zdravilnih rastlin\, ki jih srečamo v svoji okolici. \nNa predavanju pa vam predstavim tudi tečaj Zdravila izpred domačega praga.
URL:https://nabiralci.si/dogodek/uzitne-in-zdravilne-rastline-izpred-domacega-praga-brezplacno-spletno-predavanje-z-dr-tino-mele/
LOCATION:splet (zoom)
END:VEVENT
BEGIN:VEVENT
DTSTART;TZID=Europe/Paris:20260312T160000
DTEND;TZID=Europe/Paris:20260312T190000
DTSTAMP:20260421T235450
CREATED:20260130T132310Z
LAST-MODIFIED:20260130T132705Z
UID:3713-1773331200-1773342000@nabiralci.si
SUMMARY:Gojenje gob na domačem vrtu - dr. Katja Rebolj
DESCRIPTION:Izobraževalno-degustacijska delavnica z Urbanom Horvatom
URL:https://nabiralci.si/dogodek/gojenje-gob-na-domacem-vrtu/
LOCATION:Trzin\, Slovenia
END:VEVENT
BEGIN:VEVENT
DTSTART;TZID=Europe/Paris:20260318T170000
DTEND;TZID=Europe/Paris:20260318T210000
DTSTAMP:20260421T235450
CREATED:20251215T190014Z
LAST-MODIFIED:20251216T200742Z
UID:3576-1773853200-1773867600@nabiralci.si
SUMMARY:Divje in okusno - dr. Katja Rebolj
DESCRIPTION:Nabiralniško-kuharska delavnica na Akademiji Jezeršek s chefinjo Ano Šušteršič in nabiralko dr. Katjo Rebolj
URL:https://nabiralci.si/dogodek/divje-in-okusno/
LOCATION:Dvor Jezeršek\, Zgornji Brnik\, Slovenia
END:VEVENT
BEGIN:VEVENT
DTSTART;VALUE=DATE:20260320
DTEND;VALUE=DATE:20260321
DTSTAMP:20260421T235450
CREATED:20251215T190333Z
LAST-MODIFIED:20251216T200756Z
UID:3582-1773964800-1774051199@nabiralci.si
SUMMARY:Divja POMLAD - dr. Katja Rebolj
DESCRIPTION:Mentorski tečaj nabiralništva z dr. Katjo Rebolj
URL:https://nabiralci.si/dogodek/divja-pomlad/
LOCATION:Spletni tečaj z delavnico na terenu
END:VEVENT
BEGIN:VEVENT
DTSTART;TZID=Europe/Helsinki:20260322T133000
DTEND;TZID=Europe/Helsinki:20260322T183000
DTSTAMP:20260421T235450
CREATED:20260221T171028Z
LAST-MODIFIED:20260221T171028Z
UID:3985-1774186200-1774204200@nabiralci.si
SUMMARY:Delavnica Zeliščni koktajli - Nataša Sivec
DESCRIPTION:5 urna doživetvena delavnica\, kjer bomo na kratkem zeliščarskem sprehodu spoznali divje rastoča zelišča. Iz sezonskih sestavin in shrankov pa bomo pripravili zeliščne koktajle (lahko tudi vse brezalkoholne). Čaka vas praktično ustvarjanje\, tiskani recepti ter sproščeno druženje ob rastlinskih prigrizkih. Delavnico lahko podarite tudi v obliki darilnega bona.
URL:https://nabiralci.si/dogodek/delavnica-zeliscni-koktajli-natasa-sivec-2/
LOCATION:Dolenje Ležeče\, Dolenje Ležeče 2a\, Divača\, 6215\, Slovenija
END:VEVENT
BEGIN:VEVENT
DTSTART;TZID=Europe/Helsinki:20260329T133000
DTEND;TZID=Europe/Helsinki:20260329T183000
DTSTAMP:20260421T235450
CREATED:20260221T171105Z
LAST-MODIFIED:20260221T171105Z
UID:3984-1774791000-1774809000@nabiralci.si
SUMMARY:Delavnica Zeliščni koktajli - Nataša Sivec
DESCRIPTION:5 urna doživetvena delavnica\, kjer bomo na kratkem zeliščarskem sprehodu spoznali divje rastoča zelišča. Iz sezonskih sestavin in shrankov pa bomo pripravili zeliščne koktajle (lahko tudi vse brezalkoholne). Čaka vas praktično ustvarjanje\, tiskani recepti ter sproščeno druženje ob rastlinskih prigrizkih. Delavnico lahko podarite tudi v obliki darilnega bona.
URL:https://nabiralci.si/dogodek/delavnica-zeliscni-koktajli-natasa-sivec-3/
LOCATION:Dolenje Ležeče\, Dolenje Ležeče 2a\, Divača\, 6215\, Slovenija
END:VEVENT
END:VCALENDAR