BEGIN:VCALENDAR
VERSION:2.0
PRODID:-//Nabiralci - ECPv6.15.15//NONSGML v1.0//EN
CALSCALE:GREGORIAN
METHOD:PUBLISH
X-ORIGINAL-URL:https://nabiralci.si
X-WR-CALDESC:Dogodki za Nabiralci
REFRESH-INTERVAL;VALUE=DURATION:PT1H
X-Robots-Tag:noindex
X-PUBLISHED-TTL:PT1H
BEGIN:VTIMEZONE
TZID:Europe/Paris
BEGIN:DAYLIGHT
TZOFFSETFROM:+0100
TZOFFSETTO:+0200
TZNAME:CEST
DTSTART:20250330T010000
END:DAYLIGHT
BEGIN:STANDARD
TZOFFSETFROM:+0200
TZOFFSETTO:+0100
TZNAME:CET
DTSTART:20251026T010000
END:STANDARD
BEGIN:DAYLIGHT
TZOFFSETFROM:+0100
TZOFFSETTO:+0200
TZNAME:CEST
DTSTART:20260329T010000
END:DAYLIGHT
BEGIN:STANDARD
TZOFFSETFROM:+0200
TZOFFSETTO:+0100
TZNAME:CET
DTSTART:20261025T010000
END:STANDARD
BEGIN:DAYLIGHT
TZOFFSETFROM:+0100
TZOFFSETTO:+0200
TZNAME:CEST
DTSTART:20270328T010000
END:DAYLIGHT
BEGIN:STANDARD
TZOFFSETFROM:+0200
TZOFFSETTO:+0100
TZNAME:CET
DTSTART:20271031T010000
END:STANDARD
END:VTIMEZONE
BEGIN:VTIMEZONE
TZID:UTC
BEGIN:STANDARD
TZOFFSETFROM:+0000
TZOFFSETTO:+0000
TZNAME:UTC
DTSTART:20250101T000000
END:STANDARD
END:VTIMEZONE
BEGIN:VEVENT
DTSTART;VALUE=DATE:20260207
DTEND;VALUE=DATE:20260209
DTSTAMP:20260422T040638
CREATED:20251216T195855Z
LAST-MODIFIED:20251216T200703Z
UID:3588-1770422400-1770595199@nabiralci.si
SUMMARY:40 urni tečaj Fitoterapevt-zeliščar (1.del) - prof.dr.Samo Kreft
DESCRIPTION:Prof. dr. Samo Kreft\, mag. farm. od glave do peta sistematično po organskih sistemih (glava\, dihala\, srce in ožilje…) razloži zdravilne rastline\, njihove značilnosti\, vsebovane zdravilne snovi in terapevtsko uporabo.  \nDel tečaja sta tudi dva botanična sprehoda.  \nTečaj poteka dva zaporedna vikenda.
URL:https://nabiralci.si/dogodek/40-urni-tecaj-fitoterapevt-zeliscar-1-del/
LOCATION:Dolnje Ležeče 2A\, Divača\, Slovenia
END:VEVENT
BEGIN:VEVENT
DTSTART;TZID=Europe/Paris:20260207T100000
DTEND;TZID=Europe/Paris:20260207T140000
DTSTAMP:20260422T040638
CREATED:20260130T132815Z
LAST-MODIFIED:20260130T133300Z
UID:3716-1770458400-1770472800@nabiralci.si
SUMMARY:Razstrupjanje\, holesterol\, ožilje in sladkor - praktična zeliščarska delavnica  - Uroš Švigelj
DESCRIPTION:Sprehodili se bomo po divjini in spoznali aktualna zelišča in divje rastline za podporo in uravnovešanje telesa.\nPričaka vas čistilni napitek\, zdrav prigrizek\, nato gremo na sprehod in  preizkušanje različnih zeliščnih pripravkov. Za zključek pa še divje kosilo.
URL:https://nabiralci.si/dogodek/razstrupjanje-holesterol-ozilje-in-sladkor-prakticna-zeliscarska-delavnica-uros-svigelj/
LOCATION:Primorska\, Slovenia
END:VEVENT
BEGIN:VEVENT
DTSTART;TZID=Europe/Paris:20260212T180000
DTEND;TZID=Europe/Paris:20260212T200000
DTSTAMP:20260422T040638
CREATED:20260130T142606Z
LAST-MODIFIED:20260130T142606Z
UID:3744-1770919200-1770926400@nabiralci.si
SUMMARY:Zelišča malo drugače - hidrolati v praksi  - Monika Mulej
DESCRIPTION:Spoznali bomo\, kako delujejo in kako jih varno uporabljamo. Nekaj hidrolatov bomo tudi povonjali in poskusili ter raziskali različne možnosti uporabe v vsakdanjem življenju. \nPredavanje je brezplačno\, prijave niso potrebne. \nDruštvo za zdravilne rastline Zasavje\, predava Monika Mulej (Zeliščna kmetija Hanuman) \n 
URL:https://nabiralci.si/dogodek/zelisca-malo-drugace-hidrolati-v-praksi-monika-mulej/
LOCATION:Knjižnica Antona Sovreta v Hrastniku\, Trg Franca Kozarja 7\, Hrastnik\, 1430\, Slovenia
END:VEVENT
BEGIN:VEVENT
DTSTART;VALUE=DATE:20260214
DTEND;VALUE=DATE:20260216
DTSTAMP:20260422T040638
CREATED:20251216T200419Z
LAST-MODIFIED:20251217T094034Z
UID:3596-1771027200-1771199999@nabiralci.si
SUMMARY:40 urni tečaj Fitoterapevt-zeliščar (2.del) - prof.dr.Samo Kreft
DESCRIPTION:Prof. dr. Samo Kreft\, mag. farm. od glave do peta sistematično po organskih sistemih (glava\, dihala\, srce in ožilje…) razloži zdravilne rastline\, njihove značilnosti\, vsebovane zdravilne snovi in terapevtsko uporabo.  \nDel tečaja sta tudi dva botanična sprehoda.  \nTečaj poteka dva zaporedna vikenda.
URL:https://nabiralci.si/dogodek/40-urni-tecaj-fitoterapevt-zeliscar-2/
LOCATION:Dolnje Ležeče 2A\, Divača\, Slovenia
END:VEVENT
BEGIN:VEVENT
DTSTART;TZID=Europe/Paris:20260214T100000
DTEND;TZID=Europe/Paris:20260214T140000
DTSTAMP:20260422T040638
CREATED:20260130T133058Z
LAST-MODIFIED:20260130T133440Z
UID:3720-1771063200-1771077600@nabiralci.si
SUMMARY:Imunski sistem\, prebavila in vnetja – praktična zeliščarska delavnica - Uroš Švigelj
DESCRIPTION:Sprehodili se bomo po divjini in spoznali aktualna zelišča in pripravke ter glavne vzroke za imunska neravnovesja.\nPričaka vas krepčilni napitek\, zdrav prigrizek\, nato gremo na sprehod in  preizkušanje različnih zeliščnih pripravkov. Za zključek pa še divje kosilo.
URL:https://nabiralci.si/dogodek/imunski-sistem-prebavila-in-vnetja-prakticna-zeliscarska-delavnica-uros-svigelj/
LOCATION:Primorska\, Slovenia
END:VEVENT
BEGIN:VEVENT
DTSTART;TZID=Europe/Paris:20260221T100000
DTEND;TZID=Europe/Paris:20260221T140000
DTSTAMP:20260422T040638
CREATED:20260130T133221Z
LAST-MODIFIED:20260130T133240Z
UID:3722-1771668000-1771682400@nabiralci.si
SUMMARY:Brezvoljnost\, depresija\, anksioznost in drugi možgani - praktična zeliščarska delavnica - Uroš Švigelj
DESCRIPTION:Kašna je povezava med našimi prebavili\, ki jim rečemo tudi drugi možgani\, našim živčevjem ter kako ta povezava vpliva na naše počutje.\nZa dobrodošlico vas bom razveselili z zeliščno degustacijo in manjšim prigrizkom\, nato gremo na sprehod med divje rastline in preizkušanje še več različnih zeliščnih pripravkov. Za zaključek pa še divje kosilo.
URL:https://nabiralci.si/dogodek/brezvoljnost-depresija-anksioznost-in-drugi-mozgani-prakticna-zeliscarska-delavnica-uros-svigelj/
LOCATION:Primorska\, Slovenia
END:VEVENT
BEGIN:VEVENT
DTSTART;TZID=Europe/Paris:20260226T170000
DTEND;TZID=Europe/Paris:20260226T170000
DTSTAMP:20260422T040638
CREATED:20260130T142900Z
LAST-MODIFIED:20260130T142900Z
UID:3748-1772125200-1772125200@nabiralci.si
SUMMARY:Zelišča malo drugače - O koreninah za korenine - Monika Mulej
DESCRIPTION:Spoznali bomo različne zdravilne in užitne korenine\, kako iz njih pripravimo tinkture\, čaje in druge pripravke ter kako jih uporabljamo varno in spoštljivo. \nPredavanje je brezplačno\, prijave niso potrebne. \nDruštvo za zdravilne rastline Zasavje\, predava Monika Mulej (Zeliščna kmetija Hanuman).
URL:https://nabiralci.si/dogodek/zelisca-malo-drugace-o-koreninah-za-korenine-monika-mulej/
LOCATION:Delavski dom Trbovlje predavalnica\, Trg svobode 11a\, Trbovlje\, 1420
END:VEVENT
END:VCALENDAR