BEGIN:VCALENDAR
VERSION:2.0
PRODID:-//Nabiralci - ECPv6.15.15//NONSGML v1.0//EN
CALSCALE:GREGORIAN
METHOD:PUBLISH
X-WR-CALNAME:Nabiralci
X-ORIGINAL-URL:https://nabiralci.si
X-WR-CALDESC:Dogodki za Nabiralci
REFRESH-INTERVAL;VALUE=DURATION:PT1H
X-Robots-Tag:noindex
X-PUBLISHED-TTL:PT1H
BEGIN:VTIMEZONE
TZID:Europe/Helsinki
BEGIN:DAYLIGHT
TZOFFSETFROM:+0200
TZOFFSETTO:+0300
TZNAME:EEST
DTSTART:20250330T010000
END:DAYLIGHT
BEGIN:STANDARD
TZOFFSETFROM:+0300
TZOFFSETTO:+0200
TZNAME:EET
DTSTART:20251026T010000
END:STANDARD
BEGIN:DAYLIGHT
TZOFFSETFROM:+0200
TZOFFSETTO:+0300
TZNAME:EEST
DTSTART:20260329T010000
END:DAYLIGHT
BEGIN:STANDARD
TZOFFSETFROM:+0300
TZOFFSETTO:+0200
TZNAME:EET
DTSTART:20261025T010000
END:STANDARD
BEGIN:DAYLIGHT
TZOFFSETFROM:+0200
TZOFFSETTO:+0300
TZNAME:EEST
DTSTART:20270328T010000
END:DAYLIGHT
BEGIN:STANDARD
TZOFFSETFROM:+0300
TZOFFSETTO:+0200
TZNAME:EET
DTSTART:20271031T010000
END:STANDARD
END:VTIMEZONE
BEGIN:VEVENT
DTSTART;VALUE=DATE:20260416
DTEND;VALUE=DATE:20260420
DTSTAMP:20260421T235805
CREATED:20251216T200230Z
LAST-MODIFIED:20251217T094112Z
UID:3593-1776297600-1776643199@nabiralci.si
SUMMARY:40 urni tečaj Fitoterapevt-zeliščar  - prof.dr.Samo Kreft
DESCRIPTION:Prof. dr. Samo Kreft\, mag. farm. od glave do peta sistematično po organskih sistemih (glava\, dihala\, srce in ožilje…) razloži zdravilne rastline\, njihove značilnosti\, vsebovane zdravilne snovi in terapevtsko uporabo. \nDel tečaja sta tudi dva botanična sprehoda. \nTečaj poteka od četrtka do nedelje.
URL:https://nabiralci.si/dogodek/40-urni-tecaj-fitoterapevt-zeliscar/
LOCATION:Dolnje Ležeče 2A\, Divača\, Slovenia
END:VEVENT
END:VCALENDAR