BEGIN:VCALENDAR
VERSION:2.0
PRODID:-//Nabiralci - ECPv6.15.15//NONSGML v1.0//EN
CALSCALE:GREGORIAN
METHOD:PUBLISH
X-WR-CALNAME:Nabiralci
X-ORIGINAL-URL:https://nabiralci.si
X-WR-CALDESC:Dogodki za Nabiralci
REFRESH-INTERVAL;VALUE=DURATION:PT1H
X-Robots-Tag:noindex
X-PUBLISHED-TTL:PT1H
BEGIN:VTIMEZONE
TZID:Europe/Helsinki
BEGIN:DAYLIGHT
TZOFFSETFROM:+0200
TZOFFSETTO:+0300
TZNAME:EEST
DTSTART:20250330T010000
END:DAYLIGHT
BEGIN:STANDARD
TZOFFSETFROM:+0300
TZOFFSETTO:+0200
TZNAME:EET
DTSTART:20251026T010000
END:STANDARD
BEGIN:DAYLIGHT
TZOFFSETFROM:+0200
TZOFFSETTO:+0300
TZNAME:EEST
DTSTART:20260329T010000
END:DAYLIGHT
BEGIN:STANDARD
TZOFFSETFROM:+0300
TZOFFSETTO:+0200
TZNAME:EET
DTSTART:20261025T010000
END:STANDARD
BEGIN:DAYLIGHT
TZOFFSETFROM:+0200
TZOFFSETTO:+0300
TZNAME:EEST
DTSTART:20270328T010000
END:DAYLIGHT
BEGIN:STANDARD
TZOFFSETFROM:+0300
TZOFFSETTO:+0200
TZNAME:EET
DTSTART:20271031T010000
END:STANDARD
END:VTIMEZONE
BEGIN:VEVENT
DTSTART;TZID=Europe/Helsinki:20260322T133000
DTEND;TZID=Europe/Helsinki:20260322T183000
DTSTAMP:20260422T040218
CREATED:20260221T171028Z
LAST-MODIFIED:20260221T171028Z
UID:3985-1774186200-1774204200@nabiralci.si
SUMMARY:Delavnica Zeliščni koktajli - Nataša Sivec
DESCRIPTION:5 urna doživetvena delavnica\, kjer bomo na kratkem zeliščarskem sprehodu spoznali divje rastoča zelišča. Iz sezonskih sestavin in shrankov pa bomo pripravili zeliščne koktajle (lahko tudi vse brezalkoholne). Čaka vas praktično ustvarjanje\, tiskani recepti ter sproščeno druženje ob rastlinskih prigrizkih. Delavnico lahko podarite tudi v obliki darilnega bona.
URL:https://nabiralci.si/dogodek/delavnica-zeliscni-koktajli-natasa-sivec-2/
LOCATION:Dolenje Ležeče\, Dolenje Ležeče 2a\, Divača\, 6215\, Slovenija
END:VEVENT
END:VCALENDAR