BEGIN:VCALENDAR
VERSION:2.0
PRODID:-//Nabiralci - ECPv6.15.15//NONSGML v1.0//EN
CALSCALE:GREGORIAN
METHOD:PUBLISH
X-ORIGINAL-URL:https://nabiralci.si
X-WR-CALDESC:Dogodki za Nabiralci
REFRESH-INTERVAL;VALUE=DURATION:PT1H
X-Robots-Tag:noindex
X-PUBLISHED-TTL:PT1H
BEGIN:VTIMEZONE
TZID:UTC
BEGIN:STANDARD
TZOFFSETFROM:+0000
TZOFFSETTO:+0000
TZNAME:UTC
DTSTART:20250101T000000
END:STANDARD
END:VTIMEZONE
BEGIN:VTIMEZONE
TZID:Europe/Paris
BEGIN:DAYLIGHT
TZOFFSETFROM:+0100
TZOFFSETTO:+0200
TZNAME:CEST
DTSTART:20250330T010000
END:DAYLIGHT
BEGIN:STANDARD
TZOFFSETFROM:+0200
TZOFFSETTO:+0100
TZNAME:CET
DTSTART:20251026T010000
END:STANDARD
BEGIN:DAYLIGHT
TZOFFSETFROM:+0100
TZOFFSETTO:+0200
TZNAME:CEST
DTSTART:20260329T010000
END:DAYLIGHT
BEGIN:STANDARD
TZOFFSETFROM:+0200
TZOFFSETTO:+0100
TZNAME:CET
DTSTART:20261025T010000
END:STANDARD
BEGIN:DAYLIGHT
TZOFFSETFROM:+0100
TZOFFSETTO:+0200
TZNAME:CEST
DTSTART:20270328T010000
END:DAYLIGHT
BEGIN:STANDARD
TZOFFSETFROM:+0200
TZOFFSETTO:+0100
TZNAME:CET
DTSTART:20271031T010000
END:STANDARD
END:VTIMEZONE
BEGIN:VEVENT
DTSTART;VALUE=DATE:20260214
DTEND;VALUE=DATE:20260216
DTSTAMP:20260422T082821
CREATED:20251216T200419Z
LAST-MODIFIED:20251217T094034Z
UID:3596-1771027200-1771199999@nabiralci.si
SUMMARY:40 urni tečaj Fitoterapevt-zeliščar (2.del) - prof.dr.Samo Kreft
DESCRIPTION:Prof. dr. Samo Kreft\, mag. farm. od glave do peta sistematično po organskih sistemih (glava\, dihala\, srce in ožilje…) razloži zdravilne rastline\, njihove značilnosti\, vsebovane zdravilne snovi in terapevtsko uporabo.  \nDel tečaja sta tudi dva botanična sprehoda.  \nTečaj poteka dva zaporedna vikenda.
URL:https://nabiralci.si/dogodek/40-urni-tecaj-fitoterapevt-zeliscar-2/
LOCATION:Dolnje Ležeče 2A\, Divača\, Slovenia
END:VEVENT
BEGIN:VEVENT
DTSTART;TZID=Europe/Paris:20260214T100000
DTEND;TZID=Europe/Paris:20260214T140000
DTSTAMP:20260422T082821
CREATED:20260130T133058Z
LAST-MODIFIED:20260130T133440Z
UID:3720-1771063200-1771077600@nabiralci.si
SUMMARY:Imunski sistem\, prebavila in vnetja – praktična zeliščarska delavnica - Uroš Švigelj
DESCRIPTION:Sprehodili se bomo po divjini in spoznali aktualna zelišča in pripravke ter glavne vzroke za imunska neravnovesja.\nPričaka vas krepčilni napitek\, zdrav prigrizek\, nato gremo na sprehod in  preizkušanje različnih zeliščnih pripravkov. Za zključek pa še divje kosilo.
URL:https://nabiralci.si/dogodek/imunski-sistem-prebavila-in-vnetja-prakticna-zeliscarska-delavnica-uros-svigelj/
LOCATION:Primorska\, Slovenia
END:VEVENT
END:VCALENDAR