BEGIN:VCALENDAR
VERSION:2.0
PRODID:-//Nabiralci - ECPv6.15.15//NONSGML v1.0//EN
CALSCALE:GREGORIAN
METHOD:PUBLISH
X-WR-CALNAME:Nabiralci
X-ORIGINAL-URL:https://nabiralci.si
X-WR-CALDESC:Dogodki za Nabiralci
REFRESH-INTERVAL;VALUE=DURATION:PT1H
X-Robots-Tag:noindex
X-PUBLISHED-TTL:PT1H
BEGIN:VTIMEZONE
TZID:Europe/Paris
BEGIN:DAYLIGHT
TZOFFSETFROM:+0100
TZOFFSETTO:+0200
TZNAME:CEST
DTSTART:20250330T010000
END:DAYLIGHT
BEGIN:STANDARD
TZOFFSETFROM:+0200
TZOFFSETTO:+0100
TZNAME:CET
DTSTART:20251026T010000
END:STANDARD
BEGIN:DAYLIGHT
TZOFFSETFROM:+0100
TZOFFSETTO:+0200
TZNAME:CEST
DTSTART:20260329T010000
END:DAYLIGHT
BEGIN:STANDARD
TZOFFSETFROM:+0200
TZOFFSETTO:+0100
TZNAME:CET
DTSTART:20261025T010000
END:STANDARD
BEGIN:DAYLIGHT
TZOFFSETFROM:+0100
TZOFFSETTO:+0200
TZNAME:CEST
DTSTART:20270328T010000
END:DAYLIGHT
BEGIN:STANDARD
TZOFFSETFROM:+0200
TZOFFSETTO:+0100
TZNAME:CET
DTSTART:20271031T010000
END:STANDARD
END:VTIMEZONE
BEGIN:VEVENT
DTSTART;VALUE=DATE:20260207
DTEND;VALUE=DATE:20260209
DTSTAMP:20260422T080738
CREATED:20251216T195855Z
LAST-MODIFIED:20251216T200703Z
UID:3588-1770422400-1770595199@nabiralci.si
SUMMARY:40 urni tečaj Fitoterapevt-zeliščar (1.del) - prof.dr.Samo Kreft
DESCRIPTION:Prof. dr. Samo Kreft\, mag. farm. od glave do peta sistematično po organskih sistemih (glava\, dihala\, srce in ožilje…) razloži zdravilne rastline\, njihove značilnosti\, vsebovane zdravilne snovi in terapevtsko uporabo.  \nDel tečaja sta tudi dva botanična sprehoda.  \nTečaj poteka dva zaporedna vikenda.
URL:https://nabiralci.si/dogodek/40-urni-tecaj-fitoterapevt-zeliscar-1-del/
LOCATION:Dolnje Ležeče 2A\, Divača\, Slovenia
END:VEVENT
END:VCALENDAR