BEGIN:VCALENDAR
VERSION:2.0
PRODID:-//Nabiralci - ECPv6.15.15//NONSGML v1.0//EN
CALSCALE:GREGORIAN
METHOD:PUBLISH
X-ORIGINAL-URL:https://nabiralci.si
X-WR-CALDESC:Dogodki za Nabiralci
REFRESH-INTERVAL;VALUE=DURATION:PT1H
X-Robots-Tag:noindex
X-PUBLISHED-TTL:PT1H
BEGIN:VTIMEZONE
TZID:Europe/Paris
BEGIN:DAYLIGHT
TZOFFSETFROM:+0100
TZOFFSETTO:+0200
TZNAME:CEST
DTSTART:20250330T010000
END:DAYLIGHT
BEGIN:STANDARD
TZOFFSETFROM:+0200
TZOFFSETTO:+0100
TZNAME:CET
DTSTART:20251026T010000
END:STANDARD
BEGIN:DAYLIGHT
TZOFFSETFROM:+0100
TZOFFSETTO:+0200
TZNAME:CEST
DTSTART:20260329T010000
END:DAYLIGHT
BEGIN:STANDARD
TZOFFSETFROM:+0200
TZOFFSETTO:+0100
TZNAME:CET
DTSTART:20261025T010000
END:STANDARD
BEGIN:DAYLIGHT
TZOFFSETFROM:+0100
TZOFFSETTO:+0200
TZNAME:CEST
DTSTART:20270328T010000
END:DAYLIGHT
BEGIN:STANDARD
TZOFFSETFROM:+0200
TZOFFSETTO:+0100
TZNAME:CET
DTSTART:20271031T010000
END:STANDARD
END:VTIMEZONE
BEGIN:VEVENT
DTSTART;TZID=Europe/Paris:20260117T100000
DTEND;TZID=Europe/Paris:20260117T143000
DTSTAMP:20260424T083029
CREATED:20260105T133515Z
LAST-MODIFIED:20260105T133515Z
UID:3651-1768644000-1768660200@nabiralci.si
SUMMARY:Zimska nabiralniška in kulinarična avantura na Primorskem: Uroš Švigelj
DESCRIPTION:Tudi pozimi najdemo v naravni številne užitne divje rastline. Da bomo uživali v malce toplejšem vremenu\, bo potekala delavnica v bližini morja. Začeli bomo z zeliščnim aperitivom\, divjo degustacijo in se pogreli z vročim zeliščnim čajem za boljši spomin. Na sprehodu bomo spoznavali različne rastline v naravnem okolju in potencialno nevarne zamenjave. Spoznali bomo tako celinske\, kot primorske rastline\, kako jih uporabiti in za kaj so dobre. Nekaj jih bomo nabrali za pripravo kosila v naravi\, ki mu bo sledila še sladica.\nSpoznali boste– koristi divje hrane za nas– divje sorodnice naših vrtnih rastlin– nove užitne zeli in korenine ter morebitne zamenjave– kje nabirati\, da ne škodimo okolju– kako prepoznamo ali je lokacija dovolj čista za nabiranje– načine priprave rastlin\, da se ohrani čim več koristi\n\nKaj je v kompletu delavnice:– Dobrodošlica\, divji prigrizki z recepti in vroč zeliščni čaj\,– preizkušanje različnih zeliščnih pripravkov\,– 3 urni nabiralniški sprehod in spoznavanje rastlin\,– divje kosilo\, ki ga bomo skupaj zaključil z nabranimi rastlinami\,– zeliščno mazilo iz divjih rastlin v vrednoti 20€\,– zeliščne kapljice za podporo prebavilom in imunskemu sistemu v vrednoti 10€\,– videoposnetek z opisi rastlin\, ki jih bomo spoznali na delavnici in– recepti za jedi v katerih bomo uživali.\nCena: 60€\, domov pa boste odšli siti in polni znanja in zeliščnimi izdelki v vrednosti 30€.\nGlavna prednost delavnic v živo je uporaba vseh 5 čutov. S pomočjo teh 5 dimenzij\, si namreč rastline hitreje zapomnimo\, posnetek pa bo omogočal\, da znanje efektivno prenesemo v domače okolje. Dogodek bo vodil zeliščar\, nabiralec in raziskovalec dolgoživosti Uroš Švigelj.\nPrijavni obrazec in vsi prosti termini: https://tally.so/r/xXrEOk\nDelavnice potekajo na prostem ob sobotah dopoldne. Vsak mesec poteka več različnih delavnic\, ki se vsebinsko navezujejo na letni čas. V primeru dežja se delavnica prestavi na prvo sončno nedeljo. Udeležba za otroke do 16. leta so brezplačne. Male živali so dobrodošle\, ne pozabite le na povodec. Za redne obiskovalce v 2026 je vsaka 4 delavnica brezplačna plus 20% popust za družine in 3+ skupine. Če bi želeli komu podariti darilni bon za obisk delavnice\, kadakoli v letu 2026\, pišite na dogodki@domaca.si
URL:https://nabiralci.si/dogodek/zimska-nabiralniska-in-kulinaricna-avantura-na-primorskem-uros-svigelj/
LOCATION:Koper\, Slovenia
END:VEVENT
END:VCALENDAR